BEGIN:VCALENDAR
PRODID:-//Backstube Fuhlsbüttel e.V.//Vereinskalender 1.0//DE
VERSION:2.0
CALSCALE:GREGORIAN
METHOD:PUBLISH
X-MICROSOFT-CALSCALE:GREGORIAN
X-WR-CALNAME:Backstube Fuhlsbüttel e.V.
X-WR-CALDESC:Hier erhalten Sie einen Überblick
  über alle Veranstaltungen der Backstube Fuhlsbüttel e.V.
X-WR-TIMEZONE:Europe/Berlin
X-WR-RELCALID:info@backstube.hamburg
X-PUBLISHED-TTL:PT1440M
X-APPLE-CALENDAR-COLOR:#ff0000
BEGIN:VTIMEZONE
TZID:Europe/Berlin
X-LIC-LOCATION:Europe/Berlin
BEGIN:DAYLIGHT
TZOFFSETFROM:+0100
TZOFFSETTO:+0200
TZNAME:CEST
DTSTART:19700329T020000
RRULE:FREQ=YEARLY;BYMONTH=3;BYDAY=-1SU
END:DAYLIGHT
BEGIN:STANDARD
TZOFFSETFROM:+0200
TZOFFSETTO:+0100
TZNAME:CET
DTSTART:19701025T030000
RRULE:FREQ=YEARLY;BYMONTH=10;BYDAY=-1SU
END:STANDARD
END:VTIMEZONE
BEGIN:VEVENT
CREATED:20181017T211309Z
LAST-MODIFIED:20191019T135137Z
DTSTAMP:20181108T094526Z
UID:info2@backstube.hamburg
SUMMARY:Kartenvorverkauf für das Weihnachtsmärchen beginnt
STATUS:CONFIRMED
DTSTART;TZID=Europe/Berlin:20181108T110000
DTEND;TZID=Europe/Berlin:20181108T120000
DESCRIPTION:Heute beginnt der Kartenvorverkauf für unser Weihnachtsmärchen
  am 8. Dezember.\nDieses Jahr zeigen wir Aschenputtel im Gymnasium
  Alstertal.\nAb sofort können die Karten in der Bücherstube Fuhlsbüttel
  (Hummelsbütteler Landstraße 8) und der Bücherhalle Fuhlsbüttel
  (Ratsmühlendamm 23) erworben werden.\nEine Karte kostet 6 Euro.\n\nEine
  Veranstaltung der Backstube Fuhlsbüttel e.V., Verein für
  stadtteilbezogene Kulturarbeit.\nhttps://backstube.hamburg
LOCATION:Bücherstube Fuhlsbüttel (Hummelsbütteler Landstraße 8)\,
  Bücherhalle Fuhlsbüttel (Ratsmühlendamm 23)
SEQUENCE:1
TRANSP:TRANSPARENT
BEGIN:VALARM
ACTION:DISPLAY
TRIGGER;VALUE=DURATION:-PT0H
DESCRIPTION:Mozilla Standardbeschreibung
END:VALARM
END:VEVENT
BEGIN:VEVENT
CREATED:20181017T211309Z
LAST-MODIFIED:20181017T211737Z
DTSTAMP:20181208T094526Z
UID:info3@backstube.hamburg
SUMMARY:Weihnachtsmärchen: Aschenputtel
STATUS:CONFIRMED
DTSTART;TZID=Europe/Berlin:20181208T150000
DTEND;TZID=Europe/Berlin:20181208T164500
DESCRIPTION:Aschenputtel\n\nEine Veranstaltung der Backstube Fuhlsbüttel
  e.V., Verein für stadtteilbezogene Kulturarbeit.
  \nhttps://backstube.hamburg
LOCATION:Gymnasium Alstertal\, Erdkampsweg 89\, 22335 Hamburg
SEQUENCE:1
TRANSP:TRANSPARENT
BEGIN:VALARM
ACTION:DISPLAY
TRIGGER;VALUE=DURATION:-PT2H
DESCRIPTION:Mozilla Standardbeschreibung
END:VALARM
END:VEVENT
BEGIN:VEVENT
CREATED:20190930T130000Z
LAST-MODIFIED:20190930T130000Z
DTSTAMP:20190930T130000Z
UID:info4@backstube.hamburg
SUMMARY:Weihnachtsmärchen: Schneewittchen
STATUS:CONFIRMED
DTSTART;TZID=Europe/Berlin:20191123T150000
DTEND;TZID=Europe/Berlin:20191123T164500
DESCRIPTION:Schneewittchen\n\nEine Veranstaltung der Backstube Fuhlsbüttel
  e.V., Verein für stadtteilbezogene Kulturarbeit.
  \nhttps://backstube.hamburg
LOCATION:Gymnasium Alstertal\, Erdkampsweg 89\, 22335 Hamburg
SEQUENCE:1
TRANSP:TRANSPARENT
BEGIN:VALARM
ACTION:DISPLAY
TRIGGER;VALUE=DURATION:-PT2H
DESCRIPTION:Mozilla Standardbeschreibung
END:VALARM
END:VEVENT
BEGIN:VEVENT
CREATED:20230504T211309Z
LAST-MODIFIED:20230504T211309Z
DTSTAMP:20230504T211309Z
UID:info7@backstube.hamburg
SUMMARY:Kartenvorverkauf für das Weihnachtsmärchen beginnt
STATUS:CONFIRMED
DTSTART;TZID=Europe/Berlin:20231113T110000
DTEND;TZID=Europe/Berlin:20231113T120000
DESCRIPTION:Heute beginnt der Kartenvorverkauf für unser Weihnachtsmärchen
  am 16. Dezember.\nDieses Jahr zeigen wir die Bremer Stadtmusikanten im
  Gymnasium Alstertal.\nAb sofort können die Karten in der Bücherstube
  Fuhlsbüttel (Hummelsbütteler Landstraße 8) und der Bücherhalle
  Fuhlsbüttel (Ratsmühlendamm 23) erworben werden.\n
  Eine Karte kostet 7 Euro.\n\nEine
  Veranstaltung der Backstube Fuhlsbüttel e.V., Verein für
  stadtteilbezogene Kulturarbeit.\nhttps://backstube.hamburg
LOCATION:Bücherstube Fuhlsbüttel (Hummelsbütteler Landstraße 8)\,
  Bücherhalle Fuhlsbüttel (Ratsmühlendamm 23)
SEQUENCE:1
TRANSP:TRANSPARENT
BEGIN:VALARM
ACTION:DISPLAY
TRIGGER;VALUE=DURATION:-PT0H
DESCRIPTION:Mozilla Standardbeschreibung
END:VALARM
END:VEVENT
BEGIN:VEVENT
CREATED:20230428T200000Z
LAST-MODIFIED:20230428T200000Z
DTSTAMP:20231216T150000Z
UID:info5@backstube.hamburg
SUMMARY:Weihnachtsmärchen
STATUS:CONFIRMED
DTSTART;TZID=Europe/Berlin:20231216T150000
DTEND;TZID=Europe/Berlin:20231216T164500
DESCRIPTION:Eine Veranstaltung der Backstube Fuhlsbüttel
  e.V., Verein für stadtteilbezogene Kulturarbeit.
  \nhttps://backstube.hamburg
LOCATION:Gymnasium Alstertal\, Erdkampsweg 89\, 22335 Hamburg
SEQUENCE:1
TRANSP:TRANSPARENT
BEGIN:VALARM
ACTION:DISPLAY
TRIGGER;VALUE=DURATION:-PT2H
DESCRIPTION:Mozilla Standardbeschreibung
END:VALARM
END:VEVENT
BEGIN:VEVENT
CREATED:20230429T200000Z
LAST-MODIFIED:20230429T200000Z
DTSTAMP:20230429T200000Z
UID:info8@backstube.hamburg
SUMMARY:Jubiläum
STATUS:CONFIRMED
DTSTART;TZID=Europe/Berlin:20230708T140000
DTEND;TZID=Europe/Berlin:20230708T214500
DESCRIPTION:Eine Veranstaltung der Backstube Fuhlsbüttel
  e.V., Verein für stadtteilbezogene Kulturarbeit.
  \nhttps://backstube.hamburg
LOCATION:Am Hasenberge 48\, 22335 Hamburg
SEQUENCE:1
TRANSP:TRANSPARENT
BEGIN:VALARM
ACTION:DISPLAY
TRIGGER;VALUE=DURATION:-PT2H
DESCRIPTION:Mozilla Standardbeschreibung
END:VALARM
END:VEVENT
BEGIN:VEVENT
CREATED:20230629T200000Z
LAST-MODIFIED:20230629T213000Z
DTSTAMP:20230629T213000Z
UID:info9@backstube.hamburg
SUMMARY:Country-Konzert
STATUS:CONFIRMED
DTSTART;TZID=Europe/Berlin:20230811T190000
DTEND;TZID=Europe/Berlin:20230811T214500
DESCRIPTION:Einlass ab 18:30 Uhr\n\n
  Karten sind seit dem 01. August in der Bücherhalle
  Fuhlsbüttel und Bücherstube Fuhlsbüttel erhältlich.\n
  Restkarten sind an der Abendkasse erhältlich.\n\n
  Eine Veranstaltung der Backstube Fuhlsbüttel
  e.V., Verein für stadtteilbezogene Kulturarbeit.
  \nhttps://backstube.hamburg
LOCATION:Am Hasenberge 48\, 22335 Hamburg
SEQUENCE:1
TRANSP:TRANSPARENT
BEGIN:VALARM
ACTION:DISPLAY
TRIGGER;VALUE=DURATION:-PT2H
DESCRIPTION:Mozilla Standardbeschreibung
END:VALARM
BEGIN:VALARM
ACTION:DISPLAY
TRIGGER;VALUE=DURATION:-PT6H
DESCRIPTION:Mozilla Standardbeschreibung
END:VALARM
END:VEVENT
BEGIN:VEVENT
CREATED:20240722T200000Z
LAST-MODIFIED:20240722T213500Z
DTSTAMP:20240722T213500Z
UID:info10@backstube.hamburg
SUMMARY:Country-Konzert
STATUS:CONFIRMED
DTSTART;TZID=Europe/Berlin:20240809T190000
DTEND;TZID=Europe/Berlin:20240809T214500
DESCRIPTION:Einlass ab 18:30 Uhr
  \n\nKarten sind ab dem 27. Juli in der Bücherhalle
  Fuhlsbüttel und Bücherstube Fuhlsbüttel erhältlich.
  \nRestkarten sind an der Abendkasse erhältlich.
  \n\nEine Veranstaltung der Backstube Fuhlsbüttel
  e.V., Verein für stadtteilbezogene Kulturarbeit.
  \nhttps://backstube.hamburg/
LOCATION:Am Hasenberge 48\, 22335 Hamburg
SEQUENCE:1
TRANSP:TRANSPARENT
BEGIN:VALARM
ACTION:DISPLAY
TRIGGER;VALUE=DURATION:-PT2H
DESCRIPTION:Mozilla Standardbeschreibung
END:VALARM
BEGIN:VALARM
ACTION:DISPLAY
TRIGGER;VALUE=DURATION:-PT6H
DESCRIPTION:Mozilla Standardbeschreibung
END:VALARM
END:VEVENT
BEGIN:VEVENT
CREATED:20241015T200000Z
LAST-MODIFIED:20241015T200000Z
DTSTAMP:20241015T200000Z
UID:info11@backstube.hamburg
SUMMARY:Weihnachtsmärchen
STATUS:CONFIRMED
DTSTART;TZID=Europe/Berlin:20241214T150000
DTEND;TZID=Europe/Berlin:20241214T164500
DESCRIPTION:Eine Veranstaltung der Backstube Fuhlsbüttel
  e.V., Verein für stadtteilbezogene Kulturarbeit.
  \nhttps://backstube.hamburg
LOCATION:Gymnasium Alstertal\, Erdkampsweg 89\, 22335 Hamburg
SEQUENCE:1
TRANSP:TRANSPARENT
BEGIN:VALARM
ACTION:DISPLAY
TRIGGER;VALUE=DURATION:-PT2H
DESCRIPTION:Mozilla Standardbeschreibung
END:VALARM
END:VEVENT
BEGIN:VEVENT
CREATED:20241123T213000Z
LAST-MODIFIED:20241123T213000Z
DTSTAMP:20241123T213000Z
UID:info12@backstube.hamburg
SUMMARY:Kartenvorverkauf für das Weihnachtsmärchen beginnt
STATUS:CONFIRMED
DTSTART;TZID=Europe/Berlin:20241128T110000
DTEND;TZID=Europe/Berlin:20241128T120000
DESCRIPTION:Heute beginnt der Kartenvorverkauf für unser
  Weihnachtsmärchen am 14. Dezember.\nDieses Jahr zeigen
  wir Dornröschen im Gymnasium Alstertal.\nAb sofort
  können die Karten in der Bücherstube
  Fuhlsbüttel (Hummelsbütteler Landstraße 8) und der Bücherhalle
  Fuhlsbüttel (Ratsmühlendamm 23) erworben werden.\n
  Eine Karte kostet 7 Euro.\n\nEine
  Veranstaltung der Backstube Fuhlsbüttel e.V., Verein für
  stadtteilbezogene Kulturarbeit.\nhttps://backstube.hamburg
LOCATION:Bücherstube Fuhlsbüttel (Hummelsbütteler Landstraße 8)\,
  Bücherhalle Fuhlsbüttel (Ratsmühlendamm 23)
SEQUENCE:1
TRANSP:TRANSPARENT
BEGIN:VALARM
ACTION:DISPLAY
TRIGGER;VALUE=DURATION:-PT0H
DESCRIPTION:Mozilla Standardbeschreibung
END:VALARM
END:VEVENT
BEGIN:VEVENT
CREATED:20250610T200000Z
LAST-MODIFIED:20250709T120000Z
DTSTAMP:20250610T200000Z
UID:info13@backstube.hamburg
SUMMARY:Kartenvorverkauf für Sommerkonzert mit Country-Konzert beginnt
STATUS:CONFIRMED
DTSTART;TZID=Europe/Berlin:20250704T130000
DTEND;TZID=Europe/Berlin:20250704T140000
DESCRIPTION:Die Karten sind ab heute in der Bücherhalle
  Fuhlsbüttel und Bücherstube Fuhlsbüttel erhältlich.
  \nRestkarten sind an der Abendkasse erhältlich.
  \n\nEine Veranstaltung der Backstube Fuhlsbüttel
  e.V., Verein für stadtteilbezogene Kulturarbeit.
  \nhttps://backstube.hamburg/
LOCATION:Erdkampsweg\, 22335 Hamburg
SEQUENCE:1
TRANSP:TRANSPARENT
BEGIN:VALARM
ACTION:DISPLAY
TRIGGER;VALUE=DURATION:-PT2H
DESCRIPTION:Mozilla Standardbeschreibung
END:VALARM
BEGIN:VALARM
ACTION:DISPLAY
TRIGGER;VALUE=DURATION:-PT6H
DESCRIPTION:Mozilla Standardbeschreibung
END:VALARM
END:VEVENT
BEGIN:VEVENT
CREATED:20250610T200000Z
LAST-MODIFIED:20250610T200000Z
DTSTAMP:20250610T200000Z
UID:info14@backstube.hamburg
SUMMARY:Sommerkonzert mit Country-Konzert
STATUS:CONFIRMED
DTSTART;TZID=Europe/Berlin:20250725T190000
DTEND;TZID=Europe/Berlin:20250725T214500
DESCRIPTION:Einlass ab 18:30 Uhr
  \n\nKarten sind ab dem 04. Juli in der Bücherhalle
  Fuhlsbüttel und Bücherstube Fuhlsbüttel erhältlich.
  \nRestkarten sind an der Abendkasse erhältlich.
  \n\nEine Veranstaltung der Backstube Fuhlsbüttel
  e.V., Verein für stadtteilbezogene Kulturarbeit.
  \nhttps://backstube.hamburg/
LOCATION:Am Hasenberge 48\, 22335 Hamburg
SEQUENCE:1
TRANSP:TRANSPARENT
BEGIN:VALARM
ACTION:DISPLAY
TRIGGER;VALUE=DURATION:-PT2H
DESCRIPTION:Mozilla Standardbeschreibung
END:VALARM
BEGIN:VALARM
ACTION:DISPLAY
TRIGGER;VALUE=DURATION:-PT6H
DESCRIPTION:Mozilla Standardbeschreibung
END:VALARM
END:VEVENT
BEGIN:VEVENT
CREATED:20251125T201000Z
LAST-MODIFIED:20251125T201000Z
DTSTAMP:20251125T201000Z
UID:info16@backstube.hamburg
SUMMARY:Weihnachtsmärchen
STATUS:CONFIRMED
DTSTART;TZID=Europe/Berlin:20251213T150000
DTEND;TZID=Europe/Berlin:20251213T164500
DESCRIPTION:Eine Veranstaltung der Backstube Fuhlsbüttel
  e.V., Verein für stadtteilbezogene Kulturarbeit.
  \nhttps://backstube.hamburg
LOCATION:Gymnasium Alstertal\, Erdkampsweg 89\, 22335 Hamburg
SEQUENCE:1
TRANSP:TRANSPARENT
BEGIN:VALARM
ACTION:DISPLAY
TRIGGER;VALUE=DURATION:-PT2H
DESCRIPTION:Mozilla Standardbeschreibung
END:VALARM
END:VEVENT
BEGIN:VEVENT
CREATED:20251125T213000Z
LAST-MODIFIED:20251125T213000Z
DTSTAMP:20251125T213000Z
UID:info15@backstube.hamburg
SUMMARY:Kartenvorverkauf für das Weihnachtsmärchen beginnt
STATUS:CONFIRMED
DTSTART;TZID=Europe/Berlin:20251121T110000
DTEND;TZID=Europe/Berlin:20251121T120000
DESCRIPTION:Heute beginnt der Kartenvorverkauf für unser
  Weihnachtsmärchen am 13. Dezember.\nDieses Jahr zeigen
  wir Kalif Storch im Gymnasium Alstertal.\nAb sofort
  können die Karten in der Bücherstube
  Fuhlsbüttel (Hummelsbütteler Landstraße 8) und der Bücherhalle
  Fuhlsbüttel (Ratsmühlendamm 23) erworben werden.\n
  Eine Karte kostet 7 Euro.\n\nEine
  Veranstaltung der Backstube Fuhlsbüttel e.V., Verein für
  stadtteilbezogene Kulturarbeit.\nhttps://backstube.hamburg
LOCATION:Bücherstube Fuhlsbüttel (Hummelsbütteler Landstraße 8)\,
  Bücherhalle Fuhlsbüttel (Ratsmühlendamm 23)
SEQUENCE:1
TRANSP:TRANSPARENT
BEGIN:VALARM
ACTION:DISPLAY
TRIGGER;VALUE=DURATION:-PT0H
DESCRIPTION:Mozilla Standardbeschreibung
END:VALARM
END:VEVENT
END:VCALENDAR